BEGIN:VCALENDAR
VERSION:2.0
PRODID:-//Association régionale - ECPv6.15.14//NONSGML v1.0//EN
CALSCALE:GREGORIAN
METHOD:PUBLISH
X-WR-CALNAME:Association régionale
X-ORIGINAL-URL:https://areca-aquitaine.fr
X-WR-CALDESC:Évènements pour Association régionale
REFRESH-INTERVAL;VALUE=DURATION:PT1H
X-Robots-Tag:noindex
X-PUBLISHED-TTL:PT1H
BEGIN:VTIMEZONE
TZID:Europe/Paris
BEGIN:DAYLIGHT
TZOFFSETFROM:+0100
TZOFFSETTO:+0200
TZNAME:CEST
DTSTART:20240331T010000
END:DAYLIGHT
BEGIN:STANDARD
TZOFFSETFROM:+0200
TZOFFSETTO:+0100
TZNAME:CET
DTSTART:20241027T010000
END:STANDARD
BEGIN:DAYLIGHT
TZOFFSETFROM:+0100
TZOFFSETTO:+0200
TZNAME:CEST
DTSTART:20250330T010000
END:DAYLIGHT
BEGIN:STANDARD
TZOFFSETFROM:+0200
TZOFFSETTO:+0100
TZNAME:CET
DTSTART:20251026T010000
END:STANDARD
BEGIN:DAYLIGHT
TZOFFSETFROM:+0100
TZOFFSETTO:+0200
TZNAME:CEST
DTSTART:20260329T010000
END:DAYLIGHT
BEGIN:STANDARD
TZOFFSETFROM:+0200
TZOFFSETTO:+0100
TZNAME:CET
DTSTART:20261025T010000
END:STANDARD
END:VTIMEZONE
BEGIN:VEVENT
DTSTART;TZID=Europe/Paris:20251006T140000
DTEND;TZID=Europe/Paris:20251006T170000
DTSTAMP:20260421T131631
CREATED:20250716T121018Z
LAST-MODIFIED:20250716T121019Z
UID:10382-1759759200-1759770000@areca-aquitaine.fr
SUMMARY:CAP visio
DESCRIPTION:
URL:https://areca-aquitaine.fr/evenement/cap-visio/
END:VEVENT
BEGIN:VEVENT
DTSTART;TZID=Europe/Paris:20251008T090000
DTEND;TZID=Europe/Paris:20251008T133000
DTSTAMP:20260421T131631
CREATED:20250612T073758Z
LAST-MODIFIED:20250620T082800Z
UID:10351-1759914000-1759930200@areca-aquitaine.fr
SUMMARY:CAAC Sud Lycée Saint Joseph Hasparren
DESCRIPTION:La Commission d’Accueil et d’Accord collégial (CAAC) sud (40-64) aura lieu le mercredi 08 octobre 2025 au Lycée Saint Joseph à Hasparren.
URL:https://areca-aquitaine.fr/evenement/caac-sud-lycee-saint-joseph-hasparren/
CATEGORIES:CAAC
ATTACH;FMTTYPE=image/jpeg:https://areca-aquitaine.fr/wp-content/uploads/2022/12/Photo-CAAC.jpg
END:VEVENT
BEGIN:VEVENT
DTSTART;TZID=Europe/Paris:20251013T100000
DTEND;TZID=Europe/Paris:20251013T123000
DTSTAMP:20260421T131631
CREATED:20250716T125349Z
LAST-MODIFIED:20250716T125351Z
UID:10389-1760349600-1760358600@areca-aquitaine.fr
SUMMARY:CAE bilan
DESCRIPTION:
URL:https://areca-aquitaine.fr/evenement/cae-bilan-2/
END:VEVENT
BEGIN:VEVENT
DTSTART;TZID=Europe/Paris:20251013T140000
DTEND;TZID=Europe/Paris:20251013T170000
DTSTAMP:20260421T131631
CREATED:20250716T125050Z
LAST-MODIFIED:20251007T085617Z
UID:10385-1760364000-1760374800@areca-aquitaine.fr
SUMMARY:CAEC annulé
DESCRIPTION:
URL:https://areca-aquitaine.fr/evenement/caec-annule/
END:VEVENT
BEGIN:VEVENT
DTSTART;TZID=Europe/Paris:20251018T080000
DTEND;TZID=Europe/Paris:20251102T170000
DTSTAMP:20260421T131631
CREATED:20250718T094330Z
LAST-MODIFIED:20250718T094332Z
UID:10414-1760774400-1762102800@areca-aquitaine.fr
SUMMARY:VACANCES DE TOUSSAINT
DESCRIPTION:
URL:https://areca-aquitaine.fr/evenement/vacances-de-toussaint/
END:VEVENT
END:VCALENDAR