BEGIN:VCALENDAR
VERSION:2.0
PRODID:-//Association régionale - ECPv6.15.14//NONSGML v1.0//EN
CALSCALE:GREGORIAN
METHOD:PUBLISH
X-ORIGINAL-URL:https://areca-aquitaine.fr
X-WR-CALDESC:Évènements pour Association régionale
REFRESH-INTERVAL;VALUE=DURATION:PT1H
X-Robots-Tag:noindex
X-PUBLISHED-TTL:PT1H
BEGIN:VTIMEZONE
TZID:Europe/Paris
BEGIN:DAYLIGHT
TZOFFSETFROM:+0100
TZOFFSETTO:+0200
TZNAME:CEST
DTSTART:20240331T010000
END:DAYLIGHT
BEGIN:STANDARD
TZOFFSETFROM:+0200
TZOFFSETTO:+0100
TZNAME:CET
DTSTART:20241027T010000
END:STANDARD
BEGIN:DAYLIGHT
TZOFFSETFROM:+0100
TZOFFSETTO:+0200
TZNAME:CEST
DTSTART:20250330T010000
END:DAYLIGHT
BEGIN:STANDARD
TZOFFSETFROM:+0200
TZOFFSETTO:+0100
TZNAME:CET
DTSTART:20251026T010000
END:STANDARD
BEGIN:DAYLIGHT
TZOFFSETFROM:+0100
TZOFFSETTO:+0200
TZNAME:CEST
DTSTART:20260329T010000
END:DAYLIGHT
BEGIN:STANDARD
TZOFFSETFROM:+0200
TZOFFSETTO:+0100
TZNAME:CET
DTSTART:20261025T010000
END:STANDARD
BEGIN:DAYLIGHT
TZOFFSETFROM:+0100
TZOFFSETTO:+0200
TZNAME:CEST
DTSTART:20270328T010000
END:DAYLIGHT
BEGIN:STANDARD
TZOFFSETFROM:+0200
TZOFFSETTO:+0100
TZNAME:CET
DTSTART:20271031T010000
END:STANDARD
END:VTIMEZONE
BEGIN:VEVENT
DTSTART;TZID=Europe/Paris:20251202T140000
DTEND;TZID=Europe/Paris:20251202T170000
DTSTAMP:20260419T182733
CREATED:20250718T092930Z
LAST-MODIFIED:20250718T092931Z
UID:10403-1764684000-1764694800@areca-aquitaine.fr
SUMMARY:CAP
DESCRIPTION:
URL:https://areca-aquitaine.fr/evenement/cap-3/
END:VEVENT
BEGIN:VEVENT
DTSTART;TZID=Europe/Paris:20251210T090000
DTEND;TZID=Europe/Paris:20251210T170000
DTSTAMP:20260419T182733
CREATED:20250612T072223Z
LAST-MODIFIED:20250612T072827Z
UID:10337-1765357200-1765386000@areca-aquitaine.fr
SUMMARY:CAAC Nord 24-33-47 spéciale ISFEC Collège Sainte Claire Floirac
DESCRIPTION:La Commission d’Accueil et d’Accord collégial (CAAC) nord (24-33-47) spéciale ISFEC aura lieu le mercredi 10 décembre 2025 au Collège Sainte Claire à Floirac.
URL:https://areca-aquitaine.fr/evenement/caac-nord-24-33-47-speciale-isfec-college-sainte-claire-floirac/
CATEGORIES:CAAC
ATTACH;FMTTYPE=image/jpeg:https://areca-aquitaine.fr/wp-content/uploads/2022/12/Photo-CAAC.jpg
END:VEVENT
BEGIN:VEVENT
DTSTART;TZID=Europe/Paris:20251211T140000
DTEND;TZID=Europe/Paris:20251211T170000
DTSTAMP:20260419T182733
CREATED:20250718T093346Z
LAST-MODIFIED:20251203T111454Z
UID:10405-1765461600-1765472400@areca-aquitaine.fr
SUMMARY:CAEC - La Solitude MARTILLAC
DESCRIPTION:
URL:https://areca-aquitaine.fr/evenement/caec-3/
END:VEVENT
BEGIN:VEVENT
DTSTART;TZID=Europe/Paris:20251216T140000
DTEND;TZID=Europe/Paris:20251216T170000
DTSTAMP:20260419T182733
CREATED:20250718T093641Z
LAST-MODIFIED:20250718T093643Z
UID:10407-1765893600-1765904400@areca-aquitaine.fr
SUMMARY:CRP-CREC Angoulême
DESCRIPTION:
URL:https://areca-aquitaine.fr/evenement/crp-crec-angouleme/
END:VEVENT
BEGIN:VEVENT
DTSTART;TZID=Europe/Paris:20251220T080000
DTEND;TZID=Europe/Paris:20260104T170000
DTSTAMP:20260419T182733
CREATED:20250718T094105Z
LAST-MODIFIED:20250718T094107Z
UID:10409-1766217600-1767546000@areca-aquitaine.fr
SUMMARY:VACANCES DE NOËL
DESCRIPTION:
URL:https://areca-aquitaine.fr/evenement/vacances-de-noel/
END:VEVENT
END:VCALENDAR