BEGIN:VCALENDAR
VERSION:2.0
PRODID:-//Association régionale - ECPv6.15.14//NONSGML v1.0//EN
CALSCALE:GREGORIAN
METHOD:PUBLISH
X-WR-CALNAME:Association régionale
X-ORIGINAL-URL:https://areca-aquitaine.fr
X-WR-CALDESC:Évènements pour Association régionale
REFRESH-INTERVAL;VALUE=DURATION:PT1H
X-Robots-Tag:noindex
X-PUBLISHED-TTL:PT1H
BEGIN:VTIMEZONE
TZID:Europe/Paris
BEGIN:DAYLIGHT
TZOFFSETFROM:+0100
TZOFFSETTO:+0200
TZNAME:CEST
DTSTART:20250330T010000
END:DAYLIGHT
BEGIN:STANDARD
TZOFFSETFROM:+0200
TZOFFSETTO:+0100
TZNAME:CET
DTSTART:20251026T010000
END:STANDARD
BEGIN:DAYLIGHT
TZOFFSETFROM:+0100
TZOFFSETTO:+0200
TZNAME:CEST
DTSTART:20260329T010000
END:DAYLIGHT
BEGIN:STANDARD
TZOFFSETFROM:+0200
TZOFFSETTO:+0100
TZNAME:CET
DTSTART:20261025T010000
END:STANDARD
BEGIN:DAYLIGHT
TZOFFSETFROM:+0100
TZOFFSETTO:+0200
TZNAME:CEST
DTSTART:20270328T010000
END:DAYLIGHT
BEGIN:STANDARD
TZOFFSETFROM:+0200
TZOFFSETTO:+0100
TZNAME:CET
DTSTART:20271031T010000
END:STANDARD
END:VTIMEZONE
BEGIN:VEVENT
DTSTART;TZID=Europe/Paris:20260205T103000
DTEND;TZID=Europe/Paris:20260205T123000
DTSTAMP:20260419T165126
CREATED:20250910T110818Z
LAST-MODIFIED:20260120T141429Z
UID:10454-1770287400-1770294600@areca-aquitaine.fr
SUMMARY:CAE (départs) - Coll. Rambaud LA BREDE
DESCRIPTION:
URL:https://areca-aquitaine.fr/evenement/cae-departs/
END:VEVENT
BEGIN:VEVENT
DTSTART;TZID=Europe/Paris:20260207T080000
DTEND;TZID=Europe/Paris:20260222T170000
DTSTAMP:20260419T165126
CREATED:20260120T105848Z
LAST-MODIFIED:20260120T105849Z
UID:10539-1770451200-1771779600@areca-aquitaine.fr
SUMMARY:Vacances HIVER
DESCRIPTION:
URL:https://areca-aquitaine.fr/evenement/vacances-hiver/
END:VEVENT
BEGIN:VEVENT
DTSTART;TZID=Europe/Paris:20260212T090000
DTEND;TZID=Europe/Paris:20260212T120000
DTSTAMP:20260419T165126
CREATED:20260204T122344Z
LAST-MODIFIED:20260204T122451Z
UID:10561-1770886800-1770897600@areca-aquitaine.fr
SUMMARY:CAP suppl. - La Solitude MARTILLAC
DESCRIPTION:Déjeuner sur inscription
URL:https://areca-aquitaine.fr/evenement/cap-la-solitude-martillac/
END:VEVENT
BEGIN:VEVENT
DTSTART;TZID=Europe/Paris:20260226T000000
DTEND;TZID=Europe/Paris:20260226T235959
DTSTAMP:20260419T165126
CREATED:20260120T110406Z
LAST-MODIFIED:20260204T122711Z
UID:10541-1772064000-1772150399@areca-aquitaine.fr
SUMMARY:GT préparation Comm. Concertation - RECTORAT -
DESCRIPTION:
URL:https://areca-aquitaine.fr/evenement/commission-de-concertation-rectorat/
END:VEVENT
END:VCALENDAR